BEGIN:VCALENDAR
VERSION:2.0
PRODID:hinto.net
X-PUBLISHED-TTL:P1W
BEGIN:VEVENT
UID:hinto.net-event_show-6863859
DTSTART:20260419T180500
SEQUENCE:0
CREATED:20260329T155951
LAST-MODIFIED:20260329T155951
TRANSP:OPAQUE
DTEND:20260419T183000
LOCATION:
SUMMARY:ZDFneo: Sketch History
CLASS:PUBLIC
DESCRIPTION:
ORGANIZER:
DTSTAMP:20260420T043726
ATTACH:https://cron.hinto.net/de/events/zdfneo-sketch-history-19-04-2026-1805-e2794475-20.html
END:VEVENT
END:VCALENDAR
