BEGIN:VCALENDAR
VERSION:2.0
PRODID:hinto.net
X-PUBLISHED-TTL:P1W
BEGIN:VEVENT
UID:hinto.net-event_show-6862789
DTSTART:20260420T021500
SEQUENCE:0
CREATED:20260329T150807
LAST-MODIFIED:20260329T150807
TRANSP:OPAQUE
DTEND:20260420T034500
LOCATION:
SUMMARY:ZDF: Detective Grace - Stirb schön
CLASS:PUBLIC
DESCRIPTION:
ORGANIZER:
DTSTAMP:20260420T075641
ATTACH:https://cron.hinto.net/de/events/zdf-detective-grace-stirb-schoen-20-04-2026-0215-e2793405-20.html
END:VEVENT
END:VCALENDAR
