BEGIN:VCALENDAR
VERSION:2.0
PRODID:hinto.net
X-PUBLISHED-TTL:P1W
BEGIN:VEVENT
UID:hinto.net-event_show-6862780
DTSTART:20260419T180000
SEQUENCE:0
CREATED:20260329T150757
LAST-MODIFIED:20260329T150757
TRANSP:OPAQUE
DTEND:20260419T185500
LOCATION:
SUMMARY:ZDF: Der Alte
CLASS:PUBLIC
DESCRIPTION:
ORGANIZER:
DTSTAMP:20260420T090120
ATTACH:https://cron.hinto.net/de/events/zdf-der-alte-19-04-2026-1800-e2793396-20.html
END:VEVENT
END:VCALENDAR
