BEGIN:VCALENDAR
VERSION:2.0
PRODID:hinto.net
X-PUBLISHED-TTL:P1W
BEGIN:VEVENT
UID:hinto.net-event_show-6862931
DTSTART:20260419T181000
SEQUENCE:0
CREATED:20260329T151519
LAST-MODIFIED:20260329T151519
TRANSP:OPAQUE
DTEND:20260419T191000
LOCATION:
SUMMARY:VOX: Einmal Camping, immer Camping
CLASS:PUBLIC
DESCRIPTION:
ORGANIZER:
DTSTAMP:20260420T043725
ATTACH:https://cron.hinto.net/de/events/vox-einmal-camping-immer-camping-19-04-2026-1810-e2793547-20.html
END:VEVENT
END:VCALENDAR
