BEGIN:VCALENDAR
VERSION:2.0
PRODID:hinto.net
X-PUBLISHED-TTL:P1W
BEGIN:VEVENT
UID:hinto.net-event_show-6863616
DTSTART:20260420T020000
SEQUENCE:0
CREATED:20260329T155108
LAST-MODIFIED:20260329T155108
TRANSP:OPAQUE
DTEND:20260420T021300
LOCATION:
SUMMARY:Tele Top: Top News
CLASS:PUBLIC
DESCRIPTION:
ORGANIZER:
DTSTAMP:20260420T093257
ATTACH:https://cron.hinto.net/de/events/tele-top-top-news-20-04-2026-0200-e2794232-20.html
END:VEVENT
END:VCALENDAR
