BEGIN:VCALENDAR
VERSION:2.0
PRODID:hinto.net
X-PUBLISHED-TTL:P1W
BEGIN:VEVENT
UID:hinto.net-event_show-6863618
DTSTART:20260420T021600
SEQUENCE:0
CREATED:20260329T155110
LAST-MODIFIED:20260329T155110
TRANSP:OPAQUE
DTEND:20260420T030000
LOCATION:
SUMMARY:Tele Top: Kmu-date
CLASS:PUBLIC
DESCRIPTION:
ORGANIZER:
DTSTAMP:20260420T072816
ATTACH:https://cron.hinto.net/de/events/tele-top-kmu-date-20-04-2026-0216-e2794234-20.html
END:VEVENT
END:VCALENDAR
