BEGIN:VCALENDAR
VERSION:2.0
PRODID:hinto.net
X-PUBLISHED-TTL:P1W
BEGIN:VEVENT
UID:hinto.net-event_show-6863541
DTSTART:20260419T200000
SEQUENCE:0
CREATED:20260329T154824
LAST-MODIFIED:20260329T154824
TRANSP:OPAQUE
DTEND:20260419T203000
LOCATION:
SUMMARY:Tele Südostschweiz: Caffè Todisco
CLASS:PUBLIC
DESCRIPTION:
ORGANIZER:
DTSTAMP:20260420T082736
ATTACH:https://cron.hinto.net/de/events/tele-suedostschweiz-caffe-todisco-19-04-2026-2000-e2794157-20.html
END:VEVENT
END:VCALENDAR
