BEGIN:VCALENDAR
VERSION:2.0
PRODID:hinto.net
X-PUBLISHED-TTL:P1W
BEGIN:VEVENT
UID:hinto.net-event_show-6894978
DTSTART:20260419T045600
SEQUENCE:0
CREATED:20260409T182531
LAST-MODIFIED:20260409T182531
TRANSP:OPAQUE
DTEND:20260419T050000
LOCATION:
SUMMARY:Tele M1: Wetter
CLASS:PUBLIC
DESCRIPTION:
ORGANIZER:
DTSTAMP:20260420T055416
ATTACH:https://cron.hinto.net/de/events/tele-m1-wetter-19-04-2026-0456-e2820828-20.html
END:VEVENT
END:VCALENDAR
