BEGIN:VCALENDAR
VERSION:2.0
PRODID:hinto.net
X-PUBLISHED-TTL:P1W
BEGIN:VEVENT
UID:hinto.net-event_show-6863224
DTSTART:20260420T000000
SEQUENCE:0
CREATED:20260419T135102
LAST-MODIFIED:20260419T135102
TRANSP:OPAQUE
DTEND:20260420T001800
LOCATION:
SUMMARY:Tele M1: Aktuell
CLASS:PUBLIC
DESCRIPTION:
ORGANIZER:
DTSTAMP:20260420T092427
ATTACH:https://cron.hinto.net/de/events/tele-m1-aktuell-20-04-2026-0000-e2793840-20.html
END:VEVENT
END:VCALENDAR
