BEGIN:VCALENDAR
VERSION:2.0
PRODID:hinto.net
X-PUBLISHED-TTL:P1W
BEGIN:VEVENT
UID:hinto.net-event_show-6863458
DTSTART:20260419T181300
SEQUENCE:0
CREATED:20260329T154601
LAST-MODIFIED:20260329T154601
TRANSP:OPAQUE
DTEND:20260419T181500
LOCATION:
SUMMARY:Tele Basel: Wetter
CLASS:PUBLIC
DESCRIPTION:
ORGANIZER:
DTSTAMP:20260420T091945
ATTACH:https://cron.hinto.net/de/events/tele-basel-wetter-19-04-2026-1813-e2794074-20.html
END:VEVENT
END:VCALENDAR
