BEGIN:VCALENDAR
VERSION:2.0
PRODID:hinto.net
X-PUBLISHED-TTL:P1W
BEGIN:VEVENT
UID:hinto.net-event_show-6863478
DTSTART:20260420T021500
SEQUENCE:0
CREATED:20260329T154615
LAST-MODIFIED:20260329T154615
TRANSP:OPAQUE
DTEND:20260420T030000
LOCATION:
SUMMARY:Tele Basel: Sonntags Talk
CLASS:PUBLIC
DESCRIPTION:
ORGANIZER:
DTSTAMP:20260420T072837
ATTACH:https://cron.hinto.net/de/events/tele-basel-sonntags-talk-20-04-2026-0215-e2794094-20.html
END:VEVENT
END:VCALENDAR
