BEGIN:VCALENDAR
VERSION:2.0
PRODID:hinto.net
X-PUBLISHED-TTL:P1W
BEGIN:VEVENT
UID:hinto.net-event_show-6863475
DTSTART:20260420T000000
SEQUENCE:0
CREATED:20260329T154613
LAST-MODIFIED:20260329T154613
TRANSP:OPAQUE
DTEND:20260420T001300
LOCATION:
SUMMARY:Tele Basel: punkt6
CLASS:PUBLIC
DESCRIPTION:
ORGANIZER:
DTSTAMP:20260421T064208
ATTACH:https://cron.hinto.net/de/events/tele-basel-punkt6-20-04-2026-0000-e2794091-20.html
END:VEVENT
END:VCALENDAR
