BEGIN:VCALENDAR
VERSION:2.0
PRODID:hinto.net
X-PUBLISHED-TTL:P1W
BEGIN:VEVENT
UID:hinto.net-event_show-6863368
DTSTART:20260419T202000
SEQUENCE:0
CREATED:20260329T154258
LAST-MODIFIED:20260329T154258
TRANSP:OPAQUE
DTEND:20260419T205000
LOCATION:
SUMMARY:Tele Bärn: Sonntalk
CLASS:PUBLIC
DESCRIPTION:
ORGANIZER:
DTSTAMP:20260420T041940
ATTACH:https://cron.hinto.net/de/events/tele-baern-sonntalk-19-04-2026-2020-e2793984-20.html
END:VEVENT
END:VCALENDAR
