BEGIN:VCALENDAR
VERSION:2.0
PRODID:hinto.net
X-PUBLISHED-TTL:P1W
BEGIN:VEVENT
UID:hinto.net-event_show-6925816
DTSTART:20260419T045900
SEQUENCE:0
CREATED:20260419T150735
LAST-MODIFIED:20260419T150735
TRANSP:OPAQUE
DTEND:20260419T050000
LOCATION:
SUMMARY:Tele 1: Wetter
CLASS:PUBLIC
DESCRIPTION:
ORGANIZER:
DTSTAMP:20260420T055403
ATTACH:https://cron.hinto.net/de/events/tele-1-wetter-19-04-2026-0459-e2847756-20.html
END:VEVENT
END:VCALENDAR
