BEGIN:VCALENDAR
VERSION:2.0
PRODID:hinto.net
X-PUBLISHED-TTL:P1W
BEGIN:VEVENT
UID:hinto.net-event_show-6862598
DTSTART:20260420T000500
SEQUENCE:0
CREATED:20260329T145656
LAST-MODIFIED:20260329T145656
TRANSP:OPAQUE
DTEND:20260420T001500
LOCATION:
SUMMARY:SRF info: Tagesschau
CLASS:PUBLIC
DESCRIPTION:
ORGANIZER:
DTSTAMP:20260420T090128
ATTACH:https://cron.hinto.net/de/events/srf-info-tagesschau-20-04-2026-0005-e2793214-20.html
END:VEVENT
END:VCALENDAR
