BEGIN:VCALENDAR
VERSION:2.0
PRODID:hinto.net
X-PUBLISHED-TTL:P1W
BEGIN:VEVENT
UID:hinto.net-event_show-6862599
DTSTART:20260420T001500
SEQUENCE:0
CREATED:20260329T145657
LAST-MODIFIED:20260329T145657
TRANSP:OPAQUE
DTEND:20260420T002000
LOCATION:
SUMMARY:SRF info: Meteo
CLASS:PUBLIC
DESCRIPTION:
ORGANIZER:
DTSTAMP:20260420T072226
ATTACH:https://cron.hinto.net/de/events/srf-info-meteo-20-04-2026-0015-e2793215-20.html
END:VEVENT
END:VCALENDAR
