BEGIN:VCALENDAR
VERSION:2.0
PRODID:hinto.net
X-PUBLISHED-TTL:P1W
BEGIN:VEVENT
UID:hinto.net-event_show-6862518
DTSTART:20260419T180000
SEQUENCE:0
CREATED:20260329T145255
LAST-MODIFIED:20260329T145255
TRANSP:OPAQUE
DTEND:20260419T180500
LOCATION:
SUMMARY:SRF 1: Tagesschau
CLASS:PUBLIC
DESCRIPTION:
ORGANIZER:
DTSTAMP:20260420T041534
ATTACH:https://cron.hinto.net/de/events/srf-1-tagesschau-19-04-2026-1800-e2793134-20.html
END:VEVENT
END:VCALENDAR
