BEGIN:VCALENDAR
VERSION:2.0
PRODID:hinto.net
X-PUBLISHED-TTL:P1W
BEGIN:VEVENT
UID:hinto.net-event_show-6919437
DTSTART:20260419T200100
SEQUENCE:0
CREATED:20260417T042422
LAST-MODIFIED:20260417T042422
TRANSP:OPAQUE
DTEND:20260419T200130
LOCATION:
SUMMARY:RTS 2: PMU
CLASS:PUBLIC
DESCRIPTION:
ORGANIZER:
DTSTAMP:20260420T023031
ATTACH:https://cron.hinto.net/de/events/rts-2-pmu-19-04-2026-2001-e2842394-20.html
END:VEVENT
END:VCALENDAR
