BEGIN:VCALENDAR
VERSION:2.0
PRODID:hinto.net
X-PUBLISHED-TTL:P1W
BEGIN:VEVENT
UID:hinto.net-event_show-6871691
DTSTART:20260420T005000
SEQUENCE:0
CREATED:20260402T040543
LAST-MODIFIED:20260402T040543
TRANSP:OPAQUE
DTEND:20260420T013953
LOCATION:
SUMMARY:RTS 1: Transport
CLASS:PUBLIC
DESCRIPTION:
ORGANIZER:
DTSTAMP:20260420T072815
ATTACH:https://cron.hinto.net/de/events/rts-1-transport-20-04-2026-0050-e2800095-20.html
END:VEVENT
END:VCALENDAR
