BEGIN:VCALENDAR
VERSION:2.0
PRODID:hinto.net
X-PUBLISHED-TTL:P1W
BEGIN:VEVENT
UID:hinto.net-event_show-6898981
DTSTART:20260420T000000
SEQUENCE:0
CREATED:20260411T042917
LAST-MODIFIED:20260411T042917
TRANSP:OPAQUE
DTEND:20260420T004848
LOCATION:
SUMMARY:RTS 1: L'amie prodigieuse
CLASS:PUBLIC
DESCRIPTION:
ORGANIZER:
DTSTAMP:20260420T073520
ATTACH:https://cron.hinto.net/de/events/rts-1-lamie-prodigieuse-20-04-2026-0000-e2824379-20.html
END:VEVENT
END:VCALENDAR
