BEGIN:VCALENDAR
VERSION:2.0
PRODID:hinto.net
X-PUBLISHED-TTL:P1W
BEGIN:VEVENT
UID:hinto.net-event_show-6871724
DTSTART:20260420T022500
SEQUENCE:0
CREATED:20260402T040629
LAST-MODIFIED:20260402T040629
TRANSP:OPAQUE
DTEND:20260420T024500
LOCATION:
SUMMARY:Puls 8: How I Met Your Mother
CLASS:PUBLIC
DESCRIPTION:
ORGANIZER:
DTSTAMP:20260420T100115
ATTACH:https://cron.hinto.net/de/events/puls-8-how-i-met-your-mother-20-04-2026-0225-e2800128-20.html
END:VEVENT
END:VCALENDAR
