BEGIN:VCALENDAR
VERSION:2.0
PRODID:hinto.net
X-PUBLISHED-TTL:P1W
BEGIN:VEVENT
UID:hinto.net-event_show-6925762
DTSTART:20260420T021500
SEQUENCE:0
CREATED:20260419T150613
LAST-MODIFIED:20260419T150613
TRANSP:OPAQUE
DTEND:20260420T034500
LOCATION:
SUMMARY:ORF 2: Columbo - Undercover
CLASS:PUBLIC
DESCRIPTION:
ORGANIZER:
DTSTAMP:20260420T072820
ATTACH:https://cron.hinto.net/de/events/orf-2-columbo-undercover-20-04-2026-0215-e2847702-20.html
END:VEVENT
END:VCALENDAR
