BEGIN:VCALENDAR
VERSION:2.0
PRODID:hinto.net
X-PUBLISHED-TTL:P1W
BEGIN:VEVENT
UID:hinto.net-event_show-6863787
DTSTART:20260420T021500
SEQUENCE:0
CREATED:20260329T155833
LAST-MODIFIED:20260329T155833
TRANSP:OPAQUE
DTEND:20260420T041500
LOCATION:
SUMMARY:Nitro: Teleshopping
CLASS:PUBLIC
DESCRIPTION:
ORGANIZER:
DTSTAMP:20260420T115606
ATTACH:https://cron.hinto.net/de/events/nitro-teleshopping-20-04-2026-0215-e2794403-20.html
END:VEVENT
END:VCALENDAR
