BEGIN:VCALENDAR
VERSION:2.0
PRODID:hinto.net
X-PUBLISHED-TTL:P1W
BEGIN:VEVENT
UID:hinto.net-event_show-6863765
DTSTART:20260419T050000
SEQUENCE:0
CREATED:20260329T155817
LAST-MODIFIED:20260329T155817
TRANSP:OPAQUE
DTEND:20260419T054500
LOCATION:
SUMMARY:Nitro: Der Sechs Millionen Dollar Mann
CLASS:PUBLIC
DESCRIPTION:
ORGANIZER:
DTSTAMP:20260420T074545
ATTACH:https://cron.hinto.net/de/events/nitro-der-sechs-millionen-dollar-mann-19-04-2026-0500-e2794381-20.html
END:VEVENT
END:VCALENDAR
