BEGIN:VCALENDAR
VERSION:2.0
PRODID:hinto.net
X-PUBLISHED-TTL:P1W
BEGIN:VEVENT
UID:hinto.net-event_show-6925989
DTSTART:20260420T000000
SEQUENCE:0
CREATED:20260419T151226
LAST-MODIFIED:20260419T151226
TRANSP:OPAQUE
DTEND:20260420T002500
LOCATION:
SUMMARY:Nickelodeon / CC: SpongeBob Schwammkopf
CLASS:PUBLIC
DESCRIPTION:
ORGANIZER:
DTSTAMP:20260420T075702
ATTACH:https://cron.hinto.net/de/events/nickelodeon-cc-spongebob-schwammkopf-20-04-2026-0000-e2847929-20.html
END:VEVENT
END:VCALENDAR
