BEGIN:VCALENDAR
VERSION:2.0
PRODID:hinto.net
X-PUBLISHED-TTL:P1W
BEGIN:VEVENT
UID:hinto.net-event_show-6836776
DTSTART:20261031T163000
SEQUENCE:0
CREATED:20260321T040359
LAST-MODIFIED:20260321T040359
TRANSP:OPAQUE
DTEND:20261031T171500
LOCATION:Theater Basel
SUMMARY:mini.musik
CLASS:PUBLIC
DESCRIPTION:
ORGANIZER:
DTSTAMP:20260420T093246
ATTACH:https://cron.hinto.net/de/events/mini-musik-31-10-2026-1630-theater-basel-basel-e2771077-20.html
END:VEVENT
END:VCALENDAR
