BEGIN:VCALENDAR
VERSION:2.0
PRODID:hinto.net
X-PUBLISHED-TTL:P1W
BEGIN:VEVENT
UID:hinto.net-event_show-6925084
DTSTART:20260422T200000
SEQUENCE:0
CREATED:20260419T051947
LAST-MODIFIED:20260419T051947
TRANSP:OPAQUE
DTEND:20260422T230000
LOCATION:INDUSTRIE36
SUMMARY:Mike Stern Band
CLASS:PUBLIC
DESCRIPTION:
ORGANIZER:
DTSTAMP:20260420T062523
ATTACH:https://cron.hinto.net/de/events/mike-stern-band-22-04-2026-2000-industrie36-rorschach-e2847278-20.html
END:VEVENT
END:VCALENDAR
