BEGIN:VCALENDAR
VERSION:2.0
PRODID:hinto.net
X-PUBLISHED-TTL:P1W
BEGIN:VEVENT
UID:hinto.net-event_show-6862704
DTSTART:20260420T005000
SEQUENCE:0
CREATED:20260416T215733
LAST-MODIFIED:20260416T215733
TRANSP:OPAQUE
DTEND:20260420T022459
LOCATION:
SUMMARY:La 1: Estate '85
CLASS:PUBLIC
DESCRIPTION:
ORGANIZER:
DTSTAMP:20260421T071648
ATTACH:https://cron.hinto.net/de/events/la-1-estate-85-20-04-2026-0050-e2793320-20.html
END:VEVENT
END:VCALENDAR
