BEGIN:VCALENDAR
VERSION:2.0
PRODID:hinto.net
X-PUBLISHED-TTL:P1W
BEGIN:VEVENT
UID:hinto.net-event_show-6862997
DTSTART:20260419T200000
SEQUENCE:0
CREATED:20260329T152034
LAST-MODIFIED:20260329T152034
TRANSP:OPAQUE
DTEND:20260419T201500
LOCATION:
SUMMARY:KiKa: Team Timster
CLASS:PUBLIC
DESCRIPTION:
ORGANIZER:
DTSTAMP:20260420T023131
ATTACH:https://cron.hinto.net/de/events/kika-team-timster-19-04-2026-2000-e2793613-20.html
END:VEVENT
END:VCALENDAR
