BEGIN:VCALENDAR
VERSION:2.0
PRODID:hinto.net
X-PUBLISHED-TTL:P1W
BEGIN:VEVENT
UID:hinto.net-event_show-6922502
DTSTART:20260420T020000
SEQUENCE:0
CREATED:20260418T114406
LAST-MODIFIED:20260418T114406
TRANSP:OPAQUE
DTEND:20260420T025000
LOCATION:
SUMMARY:DMAX: Expedition X - Dem Unheimlichen auf der Spur
CLASS:PUBLIC
DESCRIPTION:
ORGANIZER:
DTSTAMP:20260420T075705
ATTACH:https://cron.hinto.net/de/events/dmax-expedition-x-dem-unheimlichen-auf-der-spur-20-04-2026-0200-e2845029-20.html
END:VEVENT
END:VCALENDAR
