BEGIN:VCALENDAR
VERSION:2.0
PRODID:hinto.net
X-PUBLISHED-TTL:P1W
BEGIN:VEVENT
UID:hinto.net-event_show-6826799
DTSTART:20260508T183000
SEQUENCE:0
CREATED:20260318T052007
LAST-MODIFIED:20260318T052007
TRANSP:OPAQUE
DTEND:20260508T193000
LOCATION:E-Werk
SUMMARY:Die Bewegung
CLASS:PUBLIC
DESCRIPTION:
ORGANIZER:
DTSTAMP:20260420T075429
ATTACH:https://cron.hinto.net/de/events/die-bewegung-08-05-2026-1830-e-werk-freiburg-e2762880-20.html
END:VEVENT
END:VCALENDAR
