BEGIN:VCALENDAR
VERSION:2.0
PRODID:hinto.net
X-PUBLISHED-TTL:P1W
BEGIN:VEVENT
UID:hinto.net-event_show-6866367
DTSTART:20260421T000000
SEQUENCE:0
CREATED:20260330T183500
LAST-MODIFIED:20260330T183500
TRANSP:OPAQUE
DTEND:20260421T004000
LOCATION:
SUMMARY:BR: Mariss Jansons dirigiert in Luzern
CLASS:PUBLIC
DESCRIPTION:
ORGANIZER:
DTSTAMP:20260420T044037
ATTACH:https://cron.hinto.net/de/events/br-mariss-jansons-dirigiert-in-luzern-21-04-2026-0000-e2796586-20.html
END:VEVENT
END:VCALENDAR
