BEGIN:VCALENDAR
VERSION:2.0
PRODID:hinto.net
X-PUBLISHED-TTL:P1W
BEGIN:VEVENT
UID:hinto.net-event_show-6862958
DTSTART:20260419T201500
SEQUENCE:0
CREATED:20260329T151706
LAST-MODIFIED:20260329T151706
TRANSP:OPAQUE
DTEND:20260419T225500
LOCATION:
SUMMARY:Arte: Weites Land
CLASS:PUBLIC
DESCRIPTION:
ORGANIZER:
DTSTAMP:20260420T055355
ATTACH:https://cron.hinto.net/de/events/arte-weites-land-19-04-2026-2015-e2793574-20.html
END:VEVENT
END:VCALENDAR
