BEGIN:VCALENDAR
VERSION:2.0
PRODID:hinto.net
X-PUBLISHED-TTL:P1W
BEGIN:VEVENT
UID:hinto.net-event_show-6862888
DTSTART:20260419T200000
SEQUENCE:0
CREATED:20260329T151305
LAST-MODIFIED:20260329T151305
TRANSP:OPAQUE
DTEND:20260419T201500
LOCATION:
SUMMARY:3Sat: Tagesschau
CLASS:PUBLIC
DESCRIPTION:
ORGANIZER:
DTSTAMP:20260420T023030
ATTACH:https://cron.hinto.net/de/events/3sat-tagesschau-19-04-2026-2000-e2793504-20.html
END:VEVENT
END:VCALENDAR
