BEGIN:VCALENDAR
VERSION:2.0
PRODID:hinto.net
X-PUBLISHED-TTL:P1W
BEGIN:VEVENT
UID:hinto.net-event_show-6897848
DTSTART:20260430T190000
SEQUENCE:0
CREATED:20260410T050804
LAST-MODIFIED:20260410T050804
TRANSP:OPAQUE

LOCATION:Heimat
SUMMARY:COMEDY KARAOKE
CLASS:PUBLIC
DESCRIPTION:
ORGANIZER:
DTSTAMP:20260421T080851
ATTACH:https://cron.hinto.net/de/events/comedy-karaoke-30-04-2026-1900-heimat-basel-e2823669-20.html
END:VEVENT
END:VCALENDAR
