BEGIN:VCALENDAR
VERSION:2.0
PRODID:hinto.net
X-PUBLISHED-TTL:P1W
BEGIN:VEVENT
UID:hinto.net-event_show-6862785
DTSTART:20260419T201500
SEQUENCE:0
CREATED:20260329T150802
LAST-MODIFIED:20260329T150802
TRANSP:OPAQUE
DTEND:20260419T214500
LOCATION:
SUMMARY:ZDF: Neuer Wind im Alten Land
CLASS:PUBLIC
DESCRIPTION:
ORGANIZER:
DTSTAMP:20260420T012343
ATTACH:https://cron.hinto.net/de/events/zdf-neuer-wind-im-alten-land-19-04-2026-2015-e2793401-20.html
END:VEVENT
END:VCALENDAR
