BEGIN:VCALENDAR
VERSION:2.0
PRODID:hinto.net
X-PUBLISHED-TTL:P1W
BEGIN:VEVENT
UID:hinto.net-event_show-6933629
DTSTART:20260529T190000
SEQUENCE:0
CREATED:20260422T052533
LAST-MODIFIED:20260422T052533
TRANSP:OPAQUE
DTEND:20260529T201500
LOCATION:Silo 2
SUMMARY:Ukbb tanzt
CLASS:PUBLIC
DESCRIPTION:
ORGANIZER:
DTSTAMP:20260425T184504
ATTACH:https://cron.hinto.net/de/events/ukbb-tanzt-29-05-2026-1900-silo-2-basel-e2854561-20.html
END:VEVENT
END:VCALENDAR
