BEGIN:VCALENDAR
VERSION:2.0
PRODID:hinto.net
X-PUBLISHED-TTL:P1W
BEGIN:VEVENT
UID:hinto.net-event_show-6863603
DTSTART:20260419T200000
SEQUENCE:0
CREATED:20260329T155059
LAST-MODIFIED:20260329T155059
TRANSP:OPAQUE
DTEND:20260419T201300
LOCATION:
SUMMARY:Tele Top: Top News
CLASS:PUBLIC
DESCRIPTION:
ORGANIZER:
DTSTAMP:20260420T073513
ATTACH:https://cron.hinto.net/de/events/tele-top-top-news-19-04-2026-2000-e2794219-20.html
END:VEVENT
END:VCALENDAR
