BEGIN:VCALENDAR
VERSION:2.0
PRODID:hinto.net
X-PUBLISHED-TTL:P1W
BEGIN:VEVENT
UID:hinto.net-event_show-6863597
DTSTART:20260419T180000
SEQUENCE:0
CREATED:20260329T155054
LAST-MODIFIED:20260329T155054
TRANSP:OPAQUE
DTEND:20260419T181300
LOCATION:
SUMMARY:Tele Top: Top News
CLASS:PUBLIC
DESCRIPTION:
ORGANIZER:
DTSTAMP:20260420T093302
ATTACH:https://cron.hinto.net/de/events/tele-top-top-news-19-04-2026-1800-e2794213-20.html
END:VEVENT
END:VCALENDAR
