BEGIN:VCALENDAR
VERSION:2.0
PRODID:hinto.net
X-PUBLISHED-TTL:P1W
BEGIN:VEVENT
UID:hinto.net-event_show-6863211
DTSTART:20260419T200000
SEQUENCE:0
CREATED:20260419T135050
LAST-MODIFIED:20260419T135050
TRANSP:OPAQUE
DTEND:20260419T201800
LOCATION:
SUMMARY:Tele M1: Aktuell
CLASS:PUBLIC
DESCRIPTION:
ORGANIZER:
DTSTAMP:20260420T055357
ATTACH:https://cron.hinto.net/de/events/tele-m1-aktuell-19-04-2026-2000-e2793827-20.html
END:VEVENT
END:VCALENDAR
