BEGIN:VCALENDAR
VERSION:2.0
PRODID:hinto.net
X-PUBLISHED-TTL:P1W
BEGIN:VEVENT
UID:hinto.net-event_show-6862668
DTSTART:20260419T180000
SEQUENCE:0
CREATED:20260329T150254
LAST-MODIFIED:20260329T150254
TRANSP:OPAQUE
DTEND:20260419T190000
LOCATION:
SUMMARY:RTS Info: Forum
CLASS:PUBLIC
DESCRIPTION:
ORGANIZER:
DTSTAMP:20260420T041017
ATTACH:https://cron.hinto.net/de/events/rts-info-forum-19-04-2026-1800-e2793284-20.html
END:VEVENT
END:VCALENDAR
