BEGIN:VCALENDAR
VERSION:2.0
PRODID:hinto.net
X-PUBLISHED-TTL:P1W
BEGIN:VEVENT
UID:hinto.net-event_show-6751966
DTSTART:20260419T180000
SEQUENCE:0
CREATED:20260226T052601
LAST-MODIFIED:20260226T052601
TRANSP:OPAQUE
DTEND:20260419T204500
LOCATION:Großes Haus
SUMMARY:Rigoletto
CLASS:PUBLIC
DESCRIPTION:
ORGANIZER:
DTSTAMP:20260420T062839
ATTACH:https://cron.hinto.net/de/events/rigoletto-19-04-2026-1800-grosses-haus-freiburg-i-br--e2710250-20.html
END:VEVENT
END:VCALENDAR
