BEGIN:VCALENDAR
VERSION:2.0
PRODID:hinto.net
X-PUBLISHED-TTL:P1W
BEGIN:VEVENT
UID:hinto.net-event_show-6867486
DTSTART:20260419T180000
SEQUENCE:0
CREATED:20260331T202202
LAST-MODIFIED:20260331T202202
TRANSP:OPAQUE
DTEND:20260419T183000
LOCATION:
SUMMARY:Puls 8: Fixer Upper: The Castle
CLASS:PUBLIC
DESCRIPTION:
ORGANIZER:
DTSTAMP:20260420T075233
ATTACH:https://cron.hinto.net/de/events/puls-8-fixer-upper-the-castle-19-04-2026-1800-e2797454-20.html
END:VEVENT
END:VCALENDAR
