BEGIN:VCALENDAR
VERSION:2.0
PRODID:hinto.net
X-PUBLISHED-TTL:P1W
BEGIN:VEVENT
UID:hinto.net-event_show-6925778
DTSTART:20260420T021000
SEQUENCE:0
CREATED:20260419T150630
LAST-MODIFIED:20260419T150630
TRANSP:OPAQUE
DTEND:20260420T040500
LOCATION:
SUMMARY:ProSieben: Wer isses?
CLASS:PUBLIC
DESCRIPTION:
ORGANIZER:
DTSTAMP:20260420T120542
ATTACH:https://cron.hinto.net/de/events/prosieben-wer-isses-20-04-2026-0210-e2847718-20.html
END:VEVENT
END:VCALENDAR
