BEGIN:VCALENDAR
VERSION:2.0
PRODID:hinto.net
X-PUBLISHED-TTL:P1W
BEGIN:VEVENT
UID:hinto.net-event_show-6863782
DTSTART:20260419T201500
SEQUENCE:0
CREATED:20260329T155830
LAST-MODIFIED:20260329T155830
TRANSP:OPAQUE
DTEND:20260419T210500
LOCATION:
SUMMARY:Nitro: CSI: Miami
CLASS:PUBLIC
DESCRIPTION:
ORGANIZER:
DTSTAMP:20260420T023037
ATTACH:https://cron.hinto.net/de/events/nitro-csi-miami-19-04-2026-2015-e2794398-20.html
END:VEVENT
END:VCALENDAR
