BEGIN:VCALENDAR
VERSION:2.0
PRODID:hinto.net
X-PUBLISHED-TTL:P1W
BEGIN:VEVENT
UID:hinto.net-event_show-6925755
DTSTART:20260419T045500
SEQUENCE:0
CREATED:20260419T150607
LAST-MODIFIED:20260419T150607
TRANSP:OPAQUE
DTEND:20260419T054954
LOCATION:
SUMMARY:La 2: Thun - Basilea (R)
CLASS:PUBLIC
DESCRIPTION:
ORGANIZER:
DTSTAMP:20260420T093535
ATTACH:https://cron.hinto.net/de/events/la-2-thun-basilea-(r)-19-04-2026-0455-e2847695-20.html
END:VEVENT
END:VCALENDAR
