BEGIN:VCALENDAR
VERSION:2.0
PRODID:hinto.net
X-PUBLISHED-TTL:P1W
BEGIN:VEVENT
UID:hinto.net-event_show-6862989
DTSTART:20260419T180000
SEQUENCE:0
CREATED:20260329T152025
LAST-MODIFIED:20260329T152025
TRANSP:OPAQUE
DTEND:20260419T181000
LOCATION:
SUMMARY:KiKa: Rabbit Academy - Die Häschenschule
CLASS:PUBLIC
DESCRIPTION:
ORGANIZER:
DTSTAMP:20260420T075945
ATTACH:https://cron.hinto.net/de/events/kika-rabbit-academy-die-haeschenschule-19-04-2026-1800-e2793605-20.html
END:VEVENT
END:VCALENDAR
