BEGIN:VCALENDAR
VERSION:2.0
PRODID:hinto.net
X-PUBLISHED-TTL:P1W
BEGIN:VEVENT
UID:hinto.net-event_show-6863711
DTSTART:20260419T200000
SEQUENCE:0
CREATED:20260329T155706
LAST-MODIFIED:20260329T155706
TRANSP:OPAQUE
DTEND:20260419T201500
LOCATION:
SUMMARY:BR: Tagesschau
CLASS:PUBLIC
DESCRIPTION:
ORGANIZER:
DTSTAMP:20260420T023034
ATTACH:https://cron.hinto.net/de/events/br-tagesschau-19-04-2026-2000-e2794327-20.html
END:VEVENT
END:VCALENDAR
