BEGIN:VCALENDAR
VERSION:2.0
PRODID:hinto.net
X-PUBLISHED-TTL:P1W
BEGIN:VEVENT
UID:hinto.net-event_show-6865677
DTSTART:20260421T000000
SEQUENCE:0
CREATED:20260418T070510
LAST-MODIFIED:20260418T070510
TRANSP:OPAQUE
DTEND:20260421T025000
LOCATION:
SUMMARY:4+: Kraven the Hunter
CLASS:PUBLIC
DESCRIPTION:
ORGANIZER:
DTSTAMP:20260420T041731
ATTACH:https://cron.hinto.net/de/events/4+-kraven-the-hunter-21-04-2026-0000-e2795896-20.html
END:VEVENT
END:VCALENDAR
