BEGIN:VCALENDAR
VERSION:2.0
PRODID:hinto.net
X-PUBLISHED-TTL:P1W
BEGIN:VEVENT
UID:hinto.net-event_show-6933332
DTSTART:20260427T100000
SEQUENCE:0
CREATED:20260422T052214
LAST-MODIFIED:20260422T052214
TRANSP:OPAQUE
DTEND:20260427T110000
LOCATION:Silo 2
SUMMARY:Das Experiment
CLASS:PUBLIC
DESCRIPTION:
ORGANIZER:
DTSTAMP:20260423T182024
ATTACH:https://cron.hinto.net/de/events/das-experiment-27-04-2026-1000-silo-2-basel-e2854506-20.html
END:VEVENT
END:VCALENDAR
